BEGIN:VCALENDAR
VERSION:2.0
PRODID:-//First District PTA - ECPv6.15.17.1//NONSGML v1.0//EN
CALSCALE:GREGORIAN
METHOD:PUBLISH
X-WR-CALNAME:First District PTA
X-ORIGINAL-URL:https://pta1.org
X-WR-CALDESC:Events for First District PTA
REFRESH-INTERVAL;VALUE=DURATION:PT1H
X-Robots-Tag:noindex
X-PUBLISHED-TTL:PT1H
BEGIN:VTIMEZONE
TZID:America/Los_Angeles
BEGIN:DAYLIGHT
TZOFFSETFROM:-0800
TZOFFSETTO:-0700
TZNAME:PDT
DTSTART:20200308T100000
END:DAYLIGHT
BEGIN:STANDARD
TZOFFSETFROM:-0700
TZOFFSETTO:-0800
TZNAME:PST
DTSTART:20201101T090000
END:STANDARD
BEGIN:DAYLIGHT
TZOFFSETFROM:-0800
TZOFFSETTO:-0700
TZNAME:PDT
DTSTART:20210314T100000
END:DAYLIGHT
BEGIN:STANDARD
TZOFFSETFROM:-0700
TZOFFSETTO:-0800
TZNAME:PST
DTSTART:20211107T090000
END:STANDARD
BEGIN:DAYLIGHT
TZOFFSETFROM:-0800
TZOFFSETTO:-0700
TZNAME:PDT
DTSTART:20220313T100000
END:DAYLIGHT
BEGIN:STANDARD
TZOFFSETFROM:-0700
TZOFFSETTO:-0800
TZNAME:PST
DTSTART:20221106T090000
END:STANDARD
BEGIN:DAYLIGHT
TZOFFSETFROM:-0800
TZOFFSETTO:-0700
TZNAME:PDT
DTSTART:20230312T100000
END:DAYLIGHT
BEGIN:STANDARD
TZOFFSETFROM:-0700
TZOFFSETTO:-0800
TZNAME:PST
DTSTART:20231105T090000
END:STANDARD
BEGIN:DAYLIGHT
TZOFFSETFROM:-0800
TZOFFSETTO:-0700
TZNAME:PDT
DTSTART:20240310T100000
END:DAYLIGHT
BEGIN:STANDARD
TZOFFSETFROM:-0700
TZOFFSETTO:-0800
TZNAME:PST
DTSTART:20241103T090000
END:STANDARD
END:VTIMEZONE
BEGIN:VEVENT
DTSTART;VALUE=DATE:20230223
DTEND;VALUE=DATE:20230226
DTSTAMP:20260423T031258
CREATED:20220905T171154Z
LAST-MODIFIED:20220905T171154Z
UID:240774-1677110400-1677369599@pta1.org
SUMMARY:State Board of Managers Meeting
DESCRIPTION:
URL:https://pta1.org/event/state-board-of-managers-meeting-7/
END:VEVENT
BEGIN:VEVENT
DTSTART;VALUE=DATE:20230220
DTEND;VALUE=DATE:20230221
DTSTAMP:20260423T031258
CREATED:20220905T171123Z
LAST-MODIFIED:20220905T175219Z
UID:240773-1676851200-1676937599@pta1.org
SUMMARY:First District PTA Office Closed - President's Day
DESCRIPTION:
URL:https://pta1.org/event/first-district-pta-office-closed-president%e2%80%b0%db%aas-day/
END:VEVENT
BEGIN:VEVENT
DTSTART;VALUE=DATE:20230217
DTEND;VALUE=DATE:20230218
DTSTAMP:20260423T031258
CREATED:20220905T171123Z
LAST-MODIFIED:20220905T171123Z
UID:240772-1676592000-1676678399@pta1.org
SUMMARY:National PTA Founders Day
DESCRIPTION:
URL:https://pta1.org/event/national-pta-founders-day-2/
END:VEVENT
BEGIN:VEVENT
DTSTART;TZID=America/Los_Angeles:20230213T093000
DTEND;TZID=America/Los_Angeles:20230213T110000
DTSTAMP:20260423T031258
CREATED:20220905T171122Z
LAST-MODIFIED:20220905T171122Z
UID:240771-1676280600-1676286000@pta1.org
SUMMARY:BOD Meeting - First District PTA office
DESCRIPTION:
URL:https://pta1.org/event/bod-meeting-first-district-pta-office-15/
LOCATION:First District PTA Office\, 1008 South 8th Street\, Moor Field\, Alhambra\, CA\, 91801\, United States
END:VEVENT
BEGIN:VEVENT
DTSTART;TZID=America/Los_Angeles:20230123T180000
DTEND;TZID=America/Los_Angeles:20230123T203000
DTSTAMP:20260423T031258
CREATED:20220905T171122Z
LAST-MODIFIED:20220905T180020Z
UID:240770-1674496800-1674505800@pta1.org
SUMMARY:First District PTA Board Meeting & Presidents' Roundtable
DESCRIPTION:
URL:https://pta1.org/event/first-district-pta-board-meeting-presidents-roundtable-3/
LOCATION:Blinn House\, 160 N. Oakland Avenue\, Pasadena\, CA\, 91101
END:VEVENT
BEGIN:VEVENT
DTSTART;VALUE=DATE:20230116
DTEND;VALUE=DATE:20230117
DTSTAMP:20260423T031258
CREATED:20220905T171122Z
LAST-MODIFIED:20220905T171122Z
UID:240769-1673827200-1673913599@pta1.org
SUMMARY:First District PTA Office Closed -- Martin Luther King Jr. Day
DESCRIPTION:
URL:https://pta1.org/event/first-district-pta-office-closed-martin-luther-king-jr-day-2/
END:VEVENT
BEGIN:VEVENT
DTSTART;TZID=America/Los_Angeles:20230109T093000
DTEND;TZID=America/Los_Angeles:20230109T110000
DTSTAMP:20260423T031258
CREATED:20220905T171052Z
LAST-MODIFIED:20220905T171052Z
UID:240767-1673256600-1673262000@pta1.org
SUMMARY:BOD Meeting - Zoom
DESCRIPTION:
URL:https://pta1.org/event/bod-meeting-zoom/
END:VEVENT
BEGIN:VEVENT
DTSTART;VALUE=DATE:20230102
DTEND;VALUE=DATE:20230103
DTSTAMP:20260423T031258
CREATED:20220905T171052Z
LAST-MODIFIED:20220905T171052Z
UID:240768-1672617600-1672703999@pta1.org
SUMMARY:First District PTA Office Opens - Kick off Mid-Year Membership Campaign
DESCRIPTION:
URL:https://pta1.org/event/first-district-pta-office-opens-kick-off-mid-year-membership-campaign-2/
END:VEVENT
BEGIN:VEVENT
DTSTART;VALUE=DATE:20221216
DTEND;VALUE=DATE:20230103
DTSTAMP:20260423T031258
CREATED:20220905T171052Z
LAST-MODIFIED:20220905T171052Z
UID:240766-1671148800-1672703999@pta1.org
SUMMARY:First District PTA Office Closed - Winter Break
DESCRIPTION:
URL:https://pta1.org/event/first-district-pta-office-closed-winter-break/
END:VEVENT
BEGIN:VEVENT
DTSTART;TZID=America/Los_Angeles:20221212T093000
DTEND;TZID=America/Los_Angeles:20221212T110000
DTSTAMP:20260423T031258
CREATED:20220905T171051Z
LAST-MODIFIED:20220905T171051Z
UID:240765-1670837400-1670842800@pta1.org
SUMMARY:BOD Meeting
DESCRIPTION:
URL:https://pta1.org/event/bod-meeting/
END:VEVENT
BEGIN:VEVENT
DTSTART;TZID=America/Los_Angeles:20221205T090000
DTEND;TZID=America/Los_Angeles:20221205T130000
DTSTAMP:20260423T031258
CREATED:20220905T171051Z
LAST-MODIFIED:20220905T175719Z
UID:240764-1670230800-1670245200@pta1.org
SUMMARY:Annual Holiday Luncheon & First District PTA Association Meeting
DESCRIPTION:
URL:https://pta1.org/event/annual-holiday-luncheon-first-district-pta-association-meeting-2/
LOCATION:Sheraton Fairplex Hotel & Conference Center \, 601 West McKinley Avenue\, Pomona\, CA\, 91768\, United States
END:VEVENT
BEGIN:VEVENT
DTSTART;TZID=America/Los_Angeles:20221128T180000
DTEND;TZID=America/Los_Angeles:20221128T203000
DTSTAMP:20260423T031258
CREATED:20220905T171022Z
LAST-MODIFIED:20220905T175635Z
UID:240762-1669658400-1669667400@pta1.org
SUMMARY:First District PTA Board Meeting & Presidents' Roundtable
DESCRIPTION:
URL:https://pta1.org/event/first-district-pta-board-meeting-presidents-roundtable-2/
LOCATION:Blinn House\, 160 N. Oakland Avenue\, Pasadena\, CA\, 91101
END:VEVENT
BEGIN:VEVENT
DTSTART;VALUE=DATE:20221123
DTEND;VALUE=DATE:20221126
DTSTAMP:20260423T031258
CREATED:20220905T171022Z
LAST-MODIFIED:20220905T171022Z
UID:240763-1669161600-1669420799@pta1.org
SUMMARY:First District PTA Office closed -- Thanksgiving Break
DESCRIPTION:
URL:https://pta1.org/event/first-district-pta-office-closed-thanksgiving-break-2/
END:VEVENT
BEGIN:VEVENT
DTSTART;VALUE=DATE:20221117
DTEND;VALUE=DATE:20221120
DTSTAMP:20260423T031258
CREATED:20220905T171022Z
LAST-MODIFIED:20220905T171022Z
UID:240761-1668643200-1668902399@pta1.org
SUMMARY:State Board of Managers Meeting
DESCRIPTION:
URL:https://pta1.org/event/state-board-of-managers-meeting-6/
END:VEVENT
BEGIN:VEVENT
DTSTART;VALUE=DATE:20221108
DTEND;VALUE=DATE:20221109
DTSTAMP:20260423T031258
CREATED:20220905T171021Z
LAST-MODIFIED:20220905T171021Z
UID:240760-1667865600-1667951999@pta1.org
SUMMARY:Election Day - VOTE
DESCRIPTION:
URL:https://pta1.org/event/election-day-vote-3/
END:VEVENT
BEGIN:VEVENT
DTSTART;TZID=America/Los_Angeles:20221107T093000
DTEND;TZID=America/Los_Angeles:20221107T110000
DTSTAMP:20260423T031258
CREATED:20220905T171021Z
LAST-MODIFIED:20220905T171021Z
UID:240759-1667813400-1667818800@pta1.org
SUMMARY:BOD Meeting - First District PTA office
DESCRIPTION:
URL:https://pta1.org/event/bod-meeting-first-district-pta-office-14/
LOCATION:First District PTA Office\, 1008 South 8th Street\, Moor Field\, Alhambra\, CA\, 91801\, United States
END:VEVENT
BEGIN:VEVENT
DTSTART;TZID=America/Los_Angeles:20221024T090000
DTEND;TZID=America/Los_Angeles:20221024T130000
DTSTAMP:20260423T031258
CREATED:20220905T170949Z
LAST-MODIFIED:20220905T175113Z
UID:240757-1666602000-1666616400@pta1.org
SUMMARY:District Board Mtg and Superintendents & Administrators Conference
DESCRIPTION:
URL:https://pta1.org/event/district-board-mtg-and-superintendents-administrators-conference/
LOCATION:Covina Valley District Field\, Hanes Center\, 220 W. Puente Street\, Covina\, CA\, 91723\, United States
END:VEVENT
BEGIN:VEVENT
DTSTART;VALUE=DATE:20221023
DTEND;VALUE=DATE:20221101
DTSTAMP:20260423T031258
CREATED:20220905T170949Z
LAST-MODIFIED:20220905T170949Z
UID:240756-1666483200-1667260799@pta1.org
SUMMARY:Red Ribbon Week
DESCRIPTION:
URL:https://pta1.org/event/red-ribbon-week-4/
END:VEVENT
BEGIN:VEVENT
DTSTART;TZID=America/Los_Angeles:20221010T093000
DTEND;TZID=America/Los_Angeles:20221010T110000
DTSTAMP:20260423T031258
CREATED:20220905T170948Z
LAST-MODIFIED:20220905T170948Z
UID:240755-1665394200-1665399600@pta1.org
SUMMARY:BOD Meeting - First District PTA office
DESCRIPTION:
URL:https://pta1.org/event/bod-meeting-first-district-pta-office-13/
LOCATION:First District PTA Office\, 1008 South 8th Street\, Moor Field\, Alhambra\, CA\, 91801\, United States
END:VEVENT
BEGIN:VEVENT
DTSTART;TZID=America/Los_Angeles:20220926T180000
DTEND;TZID=America/Los_Angeles:20220926T203000
DTSTAMP:20260423T031258
CREATED:20220905T170948Z
LAST-MODIFIED:20220905T175344Z
UID:240754-1664215200-1664224200@pta1.org
SUMMARY:First District PTA Board Meeting & Presidents' Roundtable
DESCRIPTION:
URL:https://pta1.org/event/first-district-pta-board-meeting-presidents-roundtable/
LOCATION:Blinn House\, 160 N. Oakland Avenue\, Pasadena\, CA\, 91101
END:VEVENT
BEGIN:VEVENT
DTSTART;TZID=America/Los_Angeles:20220912T093000
DTEND;TZID=America/Los_Angeles:20220912T110000
DTSTAMP:20260423T031258
CREATED:20220905T170918Z
LAST-MODIFIED:20220905T170918Z
UID:240753-1662975000-1662980400@pta1.org
SUMMARY:BOD Meeting - First District PTA office
DESCRIPTION:
URL:https://pta1.org/event/bod-meeting-first-district-pta-office-12/
LOCATION:First District PTA Office\, 1008 South 8th Street\, Moor Field\, Alhambra\, CA\, 91801\, United States
END:VEVENT
BEGIN:VEVENT
DTSTART;VALUE=DATE:20220905
DTEND;VALUE=DATE:20220906
DTSTAMP:20260423T031258
CREATED:20220905T170917Z
LAST-MODIFIED:20220905T170917Z
UID:240752-1662336000-1662422399@pta1.org
SUMMARY:First District PTA Office Closed -- Labor Day
DESCRIPTION:
URL:https://pta1.org/event/first-district-pta-office-closed-labor-day-2/
END:VEVENT
BEGIN:VEVENT
DTSTART;TZID=America/Los_Angeles:20220829T183000
DTEND;TZID=America/Los_Angeles:20220829T203000
DTSTAMP:20260423T031258
CREATED:20220905T170917Z
LAST-MODIFIED:20220905T170917Z
UID:240751-1661797800-1661805000@pta1.org
SUMMARY:Out-of-Council President Orientation
DESCRIPTION:
URL:https://pta1.org/event/out-of-council-president-orientation/
END:VEVENT
BEGIN:VEVENT
DTSTART;TZID=America/Los_Angeles:20220822T090000
DTEND;TZID=America/Los_Angeles:20220822T110000
DTSTAMP:20260423T031258
CREATED:20220905T170917Z
LAST-MODIFIED:20220905T170917Z
UID:240750-1661158800-1661166000@pta1.org
SUMMARY:First District PTA Association Meeting
DESCRIPTION:
URL:https://pta1.org/event/first-district-pta-association-meeting-3/
LOCATION:Covina Valley District Field\, Hanes Center\, 220 W. Puente Street\, Covina\, CA\, 91723\, United States
END:VEVENT
BEGIN:VEVENT
DTSTART;VALUE=DATE:20220811
DTEND;VALUE=DATE:20220814
DTSTAMP:20260423T031258
CREATED:20220905T170917Z
LAST-MODIFIED:20220905T170917Z
UID:240749-1660176000-1660435199@pta1.org
SUMMARY:State Board of Managers Meeting
DESCRIPTION:
URL:https://pta1.org/event/state-board-of-managers-meeting-5/
END:VEVENT
BEGIN:VEVENT
DTSTART;TZID=America/Los_Angeles:20220808T183000
DTEND;TZID=America/Los_Angeles:20220808T200000
DTSTAMP:20260423T031258
CREATED:20220905T170912Z
LAST-MODIFIED:20220905T170912Z
UID:240748-1659983400-1659988800@pta1.org
SUMMARY:First District PTA Board Meeting
DESCRIPTION:
URL:https://pta1.org/event/first-district-pta-board-meeting-6/
END:VEVENT
BEGIN:VEVENT
DTSTART;TZID=America/Los_Angeles:20220808T093000
DTEND;TZID=America/Los_Angeles:20220808T110000
DTSTAMP:20260423T031258
CREATED:20220905T170912Z
LAST-MODIFIED:20220905T170912Z
UID:240747-1659951000-1659956400@pta1.org
SUMMARY:BOD Meeting - First District PTA office
DESCRIPTION:
URL:https://pta1.org/event/bod-meeting-first-district-pta-office-11/
LOCATION:First District PTA Office\, 1008 South 8th Street\, Moor Field\, Alhambra\, CA\, 91801\, United States
END:VEVENT
BEGIN:VEVENT
DTSTART;VALUE=DATE:20220725
DTEND;VALUE=DATE:20220726
DTSTAMP:20260423T031258
CREATED:20220905T170911Z
LAST-MODIFIED:20220905T170911Z
UID:240746-1658707200-1658793599@pta1.org
SUMMARY:First District PTA Office Reopens
DESCRIPTION:
URL:https://pta1.org/event/first-district-pta-office-reopens-2/
END:VEVENT
BEGIN:VEVENT
DTSTART;TZID=America/Los_Angeles:20220718T180000
DTEND;TZID=America/Los_Angeles:20220718T220000
DTSTAMP:20260423T031258
CREATED:20220905T170911Z
LAST-MODIFIED:20220905T170911Z
UID:240745-1658167200-1658181600@pta1.org
SUMMARY:BOD Retreat
DESCRIPTION:
URL:https://pta1.org/event/bod-retreat-2/
END:VEVENT
BEGIN:VEVENT
DTSTART;VALUE=DATE:20210630
DTEND;VALUE=DATE:20210701
DTSTAMP:20260423T031258
CREATED:20200918T190233Z
LAST-MODIFIED:20200918T191255Z
UID:4043-1625011200-1625097599@pta1.org
SUMMARY:Fiscal Year-End
DESCRIPTION:
URL:https://pta1.org/event/fiscal-year-end/
END:VEVENT
END:VCALENDAR